BEGIN:VCALENDAR
VERSION:2.0
PRODID:-//PYVOBJECT//NONSGML Version 0.9.9//EN
X-WR-TIMEZONE:Africa/Johannesburg
BEGIN:VTIMEZONE
TZID:Africa/Johannesburg
BEGIN:STANDARD
DTSTART:20000101T000000
RRULE:FREQ=YEARLY;BYMONTH=1
TZNAME:SAST
TZOFFSETFROM:+0200
TZOFFSETTO:+0200
END:STANDARD
END:VTIMEZONE
BEGIN:VEVENT
UID:20260423T200302Z - 12545@eos-content
DTSTART;TZID=Africa/Johannesburg:20260426T140000
DTEND;TZID=Africa/Johannesburg:20260426T160000
ATTENDEE:MAILTO:shirley.p@urbanlink.co.za
ATTENDEE:MAILTO:jd@urbanlink.co.za
DESCRIPTION:https://www.urbanlink.co.za/results/residential/for-sale/sandto
 n/douglasdale/townhouse/3143457/\n\nOn show Sunday 26th April from 14h00 t
 o 16h00. Contact agent to BOOK TO VIEW!\n\nShirley Pearson (062 775 0132)\
 n\nJD Bramham (078 694 0389)
DTSTAMP:20260423T200302Z
LOCATION:Douglasdale\, Sandton
SUMMARY:Urban Link Show Day - ULR10878
END:VEVENT
END:VCALENDAR
